BEGIN:VCALENDAR
VERSION:2.0
PRODID:-//Pitt Meadows United Church - ECPv6.1.3//NONSGML v1.0//EN
CALSCALE:GREGORIAN
METHOD:PUBLISH
X-ORIGINAL-URL:https://pmunitedchurch.com
X-WR-CALDESC:Events for Pitt Meadows United Church
REFRESH-INTERVAL;VALUE=DURATION:PT1H
X-Robots-Tag:noindex
X-PUBLISHED-TTL:PT1H
BEGIN:VTIMEZONE
TZID:UTC
BEGIN:STANDARD
TZOFFSETFROM:+0000
TZOFFSETTO:+0000
TZNAME:UTC
DTSTART:20240101T000000
END:STANDARD
END:VTIMEZONE
BEGIN:VEVENT
DTSTART;TZID=UTC:20240211T093000
DTEND;TZID=UTC:20240211T093000
DTSTAMP:20260423T035009
CREATED:20231014T145300Z
LAST-MODIFIED:20240206T083344Z
UID:24803-1707643800-1707643800@pmunitedchurch.com
SUMMARY:Sunday Services
DESCRIPTION:
URL:https://pmunitedchurch.com/event/sunday-services-29/
LOCATION:Pitt Meadow United Church\, 12109 Harris Rd\, Pitt Meadows\, BC\, Canada
CATEGORIES:Church
ATTACH;FMTTYPE=image/jpeg:https://pmunitedchurch.com/wp-content/uploads/2020/04/52442.jpg
ORGANIZER;CN="Rev.%20Bethan%20Theunissen":MAILTO:pmuchurch@gmail.com
END:VEVENT
END:VCALENDAR