BEGIN:VCALENDAR
VERSION:2.0
PRODID:-//Pitt Meadows United Church - ECPv6.1.3//NONSGML v1.0//EN
CALSCALE:GREGORIAN
METHOD:PUBLISH
X-ORIGINAL-URL:https://pmunitedchurch.com
X-WR-CALDESC:Events for Pitt Meadows United Church
REFRESH-INTERVAL;VALUE=DURATION:PT1H
X-Robots-Tag:noindex
X-PUBLISHED-TTL:PT1H
BEGIN:VTIMEZONE
TZID:UTC
BEGIN:STANDARD
TZOFFSETFROM:+0000
TZOFFSETTO:+0000
TZNAME:UTC
DTSTART:20240101T000000
END:STANDARD
END:VTIMEZONE
BEGIN:VEVENT
DTSTART;TZID=UTC:20240608T090000
DTEND;TZID=UTC:20240608T130000
DTSTAMP:20260422T214706
CREATED:20240604T202040Z
LAST-MODIFIED:20240604T202040Z
UID:25315-1717837200-1717851600@pmunitedchurch.com
SUMMARY:PMUC Garage Sale
DESCRIPTION:Taking place on Saturday June 8th from 9:00am to 1:00pm\, all are welcome to the PMUC Garage Sale. \nIf you have any items to donate\, bring them to the Church Hall on Friday between 9:00am and 10:00am.
URL:https://pmunitedchurch.com/event/pmuc-garage-sale/
ATTACH;FMTTYPE=image/png:https://pmunitedchurch.com/wp-content/uploads/2024/06/PMUC-Garage-Sale.png
END:VEVENT
END:VCALENDAR