BEGIN:VCALENDAR
VERSION:2.0
PRODID:-//Pitt Meadows United Church - ECPv6.1.3//NONSGML v1.0//EN
CALSCALE:GREGORIAN
METHOD:PUBLISH
X-ORIGINAL-URL:https://pmunitedchurch.com
X-WR-CALDESC:Events for Pitt Meadows United Church
REFRESH-INTERVAL;VALUE=DURATION:PT1H
X-Robots-Tag:noindex
X-PUBLISHED-TTL:PT1H
BEGIN:VTIMEZONE
TZID:UTC
BEGIN:STANDARD
TZOFFSETFROM:+0000
TZOFFSETTO:+0000
TZNAME:UTC
DTSTART:20250101T000000
END:STANDARD
END:VTIMEZONE
BEGIN:VEVENT
DTSTART;TZID=UTC:20250601T093000
DTEND;TZID=UTC:20250601T093000
DTSTAMP:20260422T084501
CREATED:20231014T145201Z
LAST-MODIFIED:20250529T082517Z
UID:24801-1748770200-1748770200@pmunitedchurch.com
SUMMARY:Sunday Services
DESCRIPTION:Join us for worship at 9:30am\, in person or online via the following link: \n\nLivestream link: https://www.youtube.com/@PMUCinBC/streams
URL:https://pmunitedchurch.com/event/sunday-services-22/
LOCATION:Pitt Meadow United Church\, 12109 Harris Rd\, Pitt Meadows\, BC\, Canada
CATEGORIES:Church
ATTACH;FMTTYPE=image/jpeg:https://pmunitedchurch.com/wp-content/uploads/2020/04/52442.jpg
ORGANIZER;CN="Rev.%20Bethan%20Theunissen":MAILTO:pmuchurch@gmail.com
END:VEVENT
END:VCALENDAR