BEGIN:VCALENDAR
VERSION:2.0
PRODID:-//Pitt Meadows United Church - ECPv6.1.3//NONSGML v1.0//EN
CALSCALE:GREGORIAN
METHOD:PUBLISH
X-WR-CALNAME:Pitt Meadows United Church
X-ORIGINAL-URL:https://pmunitedchurch.com
X-WR-CALDESC:Events for Pitt Meadows United Church
REFRESH-INTERVAL;VALUE=DURATION:PT1H
X-Robots-Tag:noindex
X-PUBLISHED-TTL:PT1H
BEGIN:VTIMEZONE
TZID:UTC
BEGIN:STANDARD
TZOFFSETFROM:+0000
TZOFFSETTO:+0000
TZNAME:UTC
DTSTART:20230101T000000
END:STANDARD
END:VTIMEZONE
BEGIN:VEVENT
DTSTART;TZID=UTC:20231019T100000
DTEND;TZID=UTC:20231019T140000
DTSTAMP:20260422T220356
CREATED:20231006T123535Z
LAST-MODIFIED:20231014T144928Z
UID:24679-1697709600-1697724000@pmunitedchurch.com
SUMMARY:Healing Touch
DESCRIPTION:
URL:https://pmunitedchurch.com/event/healing-touch/
LOCATION:Pitt Meadow United Church\, 12109 Harris Rd\, Pitt Meadows\, BC\, Canada
CATEGORIES:Church
ATTACH;FMTTYPE=image/jpeg:https://pmunitedchurch.com/wp-content/uploads/2023/10/99523.jpg
ORGANIZER;CN="Rev.%20Bethan%20Theunissen":MAILTO:pmuchurch@gmail.com
END:VEVENT
BEGIN:VEVENT
DTSTART;TZID=UTC:20231017T110000
DTEND;TZID=UTC:20231017T110000
DTSTAMP:20260422T220356
CREATED:20231006T123849Z
LAST-MODIFIED:20231014T145428Z
UID:24688-1697540400-1697540400@pmunitedchurch.com
SUMMARY:Reflections
DESCRIPTION:
URL:https://pmunitedchurch.com/event/reflections/
LOCATION:Pitt Meadow United Church\, 12109 Harris Rd\, Pitt Meadows\, BC\, Canada
CATEGORIES:Church
ATTACH;FMTTYPE=image/jpeg:https://pmunitedchurch.com/wp-content/uploads/2023/10/222354.jpg
ORGANIZER;CN="Rev.%20Bethan%20Theunissen":MAILTO:pmuchurch@gmail.com
END:VEVENT
END:VCALENDAR