BEGIN:VCALENDAR
VERSION:2.0
PRODID:-//Pitt Meadows United Church - ECPv6.1.3//NONSGML v1.0//EN
CALSCALE:GREGORIAN
METHOD:PUBLISH
X-WR-CALNAME:Pitt Meadows United Church
X-ORIGINAL-URL:https://pmunitedchurch.com
X-WR-CALDESC:Events for Pitt Meadows United Church
REFRESH-INTERVAL;VALUE=DURATION:PT1H
X-Robots-Tag:noindex
X-PUBLISHED-TTL:PT1H
BEGIN:VTIMEZONE
TZID:UTC
BEGIN:STANDARD
TZOFFSETFROM:+0000
TZOFFSETTO:+0000
TZNAME:UTC
DTSTART:20250101T000000
END:STANDARD
END:VTIMEZONE
BEGIN:VEVENT
DTSTART;TZID=UTC:20250531T100000
DTEND;TZID=UTC:20250531T140000
DTSTAMP:20260422T035645
CREATED:20250529T082459Z
LAST-MODIFIED:20250529T082459Z
UID:25394-1748685600-1748700000@pmunitedchurch.com
SUMMARY:PMUC Garage Sale
DESCRIPTION:  \nGarage Sale on May 31st at the Pitt Meadows United Church Hall\, beginning at 10:00 am. \n  \nAll are welcome!
URL:https://pmunitedchurch.com/event/pmuc-garage-sale-2/
ATTACH;FMTTYPE=image/jpeg:https://pmunitedchurch.com/wp-content/uploads/2025/05/GarageSaleAdPMUC.jpg
END:VEVENT
END:VCALENDAR